BEGIN:VCALENDAR
VERSION:2.0
PRODID:-//Pratiques et accessoires BDSM - Dèmonia - ECPv6.10.1.1//NONSGML v1.0//EN
CALSCALE:GREGORIAN
METHOD:PUBLISH
X-WR-CALNAME:Pratiques et accessoires BDSM - Dèmonia
X-ORIGINAL-URL:https://blog.demonia.com
X-WR-CALDESC:Évènements pour Pratiques et accessoires BDSM - Dèmonia
REFRESH-INTERVAL;VALUE=DURATION:PT1H
X-Robots-Tag:noindex
X-PUBLISHED-TTL:PT1H
BEGIN:VTIMEZONE
TZID:Europe/Paris
BEGIN:DAYLIGHT
TZOFFSETFROM:+0100
TZOFFSETTO:+0200
TZNAME:CEST
DTSTART:20210328T010000
END:DAYLIGHT
BEGIN:STANDARD
TZOFFSETFROM:+0200
TZOFFSETTO:+0100
TZNAME:CET
DTSTART:20211031T010000
END:STANDARD
END:VTIMEZONE
BEGIN:VEVENT
DTSTART;TZID=Europe/Paris:20210128T193000
DTEND;TZID=Europe/Paris:20211028T230000
DTSTAMP:20260423T005010
CREATED:20250314T083045Z
LAST-MODIFIED:20250314T084101Z
UID:5256-1611862200-1635462000@blog.demonia.com
SUMMARY:Atelier d’écriture : Jeux de plumes II
DESCRIPTION:🔥 Déchaînez votre plume\, embrasez vos désirs. 🔥 \nLaissez l’écriture devenir le terrain de jeu de votre imagination. Venez libérer votre stylo\, tisser vos récits\, et esquisser vos fantasmes sur le papier. \nGuidé·es par Éros\, expert en écriture créative\, explorez l’univers envoûtant des accessoires et vêtements de l’antre Dèmonia. Plongez dans une expérience où chaque texture\, chaque ambiance\, chaque scénario devient une source d’inspiration sensuelle et littéraire. \n💡 Éros vous lancera des défis d’écriture pour éveiller vos sens et vous mener\, en toute liberté\, jusqu’à la lecture et au partage de vos textes lors d’une soirée unique. \n📜 Pourquoi participer à cet atelier ?\nPour oser. Oser imaginer\, oser écrire\, oser dévoiler vos désirs sous une plume audacieuse et littéraire\, dans un cadre bienveillant et sécurisant. \nToutes les plumes sont invitées :\n🔥 Sensuelles\, brûlantes\, glaciales\, amoureuses\, sauvages\, extraverties\, soumises\, dominantes\, dentelles\, vinyles\, cuirs… et même celles qui ne savent pas encore ce qu’elles sont. Venez le découvrir ! \n🎁 À l’occasion de Noël\, Éros vous offrira un poème personnalisé et un marque-page sur demande. \n⚠️ Places limitées pour garantir un atelier intimiste et de qualité. \nRejoignez-nous dans le temple Dèmonia et laissez votre plume révéler vos désirs les plus secrets. ✨
URL:https://www.demonia.com/pratiques-BDSM/event/atelier-decriture-jeux-de-plumes-ii/
LOCATION:Dèmonia Paris\, 19 rue de la Pierre levée\, Paris\, 75011
CATEGORIES:Ateliers Fétish & BDSM
ATTACH;FMTTYPE=image/jpeg:https://www.demonia.com/pratiques-BDSM/wp-content/uploads/2025/03/Atelier-decriture-Jeux-de-plumes-II.jpg
END:VEVENT
BEGIN:VEVENT
DTSTART;TZID=Europe/Paris:20211001T193000
DTEND;TZID=Europe/Paris:20211001T220000
DTSTAMP:20260423T005010
CREATED:20250311T115053Z
LAST-MODIFIED:20250311T115053Z
UID:5090-1633116600-1633125600@blog.demonia.com
SUMMARY:Atelier d’écriture : Jeux de plumes
DESCRIPTION:Éveillez vos désirs à travers l’écriture.Laissez votre plume s’enflammer\, vos mots s’abandonner\, vos histoires prendre vie. Libérez votre imagination et faites vibrer le papier sous l’impulsion de vos fantasmes. \nGuidé·es par Éros\, maître de l’écriture créative\, plongez dans un univers où les accessoires et les étoffes envoûtantes de l’antre Dèmonia deviendront les déclencheurs de vos inspirations les plus audacieuses. \nÉros et Dèmonia vous invitent à une immersion littéraire et sensorielle\, une exploration poétique des textures\, des décors et des personnages qui hantent vos désirs. Relevez les défis d’écriture\, laissez vos pensées s’exprimer sans retenue\, et partagez vos créations lors d’une soirée aussi intime qu’exaltante. \nOsez mettre en mots vos scénarios érotiques. Osez révéler\, par l’écriture\, l’écho secret de vos envies.Le temple Dèmonia vous ouvre ses portes… \nPourquoi participer à cette expérience inédite ?\nPour oser.Oser explorer\, oser partager\, oser écrire l’érotisme et révéler votre sensualité sous une lumière littéraire\, dans un cadre sécurisant\, bienveillant et inspirant. \nToutes les plumes sont conviées :Les plumes effrontées\, les plumes passionnées\, les plumes troublantes\, les plumes audacieuses\, les plumes délicates\, les plumes affolées\, les plumes soumises\, les plumes dominantes\, les plumes de velours\, les plumes de cuir\, les plumes indociles\, les plumes insoumises\, les plumes brûlantes\, les plumes frissonnantes\, les plumes animales\, les plumes électriques\, les plumes enivrantes…Et si vous ne savez pas encore quelle plume vous habite\, laissez l’instant vous révéler. \nRejoignez-nous et donnez libre cours à votre plume\, à votre désir\, à votre histoire.
URL:https://www.demonia.com/pratiques-BDSM/event/atelier-decriture-jeux-de-plumes/
LOCATION:Dèmonia Paris\, 19 rue de la Pierre levée\, Paris\, 75011
CATEGORIES:Ateliers Fétish & BDSM
ATTACH;FMTTYPE=image/jpeg:https://www.demonia.com/pratiques-BDSM/wp-content/uploads/2025/03/Atelier-decriture-Jeux-de-plumes.jpg
END:VEVENT
END:VCALENDAR