BEGIN:VCALENDAR
VERSION:2.0
PRODID:-//Pratiques et accessoires BDSM - Dèmonia - ECPv6.10.1.1//NONSGML v1.0//EN
CALSCALE:GREGORIAN
METHOD:PUBLISH
X-WR-CALNAME:Pratiques et accessoires BDSM - Dèmonia
X-ORIGINAL-URL:https://blog.demonia.com
X-WR-CALDESC:Évènements pour Pratiques et accessoires BDSM - Dèmonia
REFRESH-INTERVAL;VALUE=DURATION:PT1H
X-Robots-Tag:noindex
X-PUBLISHED-TTL:PT1H
BEGIN:VTIMEZONE
TZID:Europe/Paris
BEGIN:DAYLIGHT
TZOFFSETFROM:+0100
TZOFFSETTO:+0200
TZNAME:CEST
DTSTART:20220327T010000
END:DAYLIGHT
BEGIN:STANDARD
TZOFFSETFROM:+0200
TZOFFSETTO:+0100
TZNAME:CET
DTSTART:20221030T010000
END:STANDARD
END:VTIMEZONE
BEGIN:VEVENT
DTSTART;TZID=Europe/Paris:20220204T193000
DTEND;TZID=Europe/Paris:20220204T210000
DTSTAMP:20260423T005020
CREATED:20250314T083045Z
LAST-MODIFIED:20250314T084526Z
UID:5257-1644003000-1644008400@blog.demonia.com
SUMMARY:Atelier QueerWeek
DESCRIPTION:À propos de FloZif\nDepuis plusieurs années\, FloZif organise la soirée PlayNight ainsi que des ateliers dédiés au kink et au BDSM pour un public queer. Iel est également à l’origine de festivals\, dont What the Fuck? Fest!\, célébrant les arts et les sexualités alternatives\, ainsi que de projections de films underground. \nSon travail explore le corps\, les genres et les pratiques sexuelles alternatives à travers des performances et des films indépendants. Formé.e au shibari à Berlin\, FloZif enseigne l’art des cordes à travers les cours Fairy Ropes et Pop Cordes Marseille\, favorisant des espaces en mixité choisie et intervenant lors d’événements internationaux. \nAtelier : Initiation au BDSM et au kink\nCurieux·ses de découvrir l’univers du BDSM et des kinks ? Cet atelier est fait pour vous ! \nPensé comme une introduction immersive\, il se déroule en deux temps : \n🔹 Partie théorique : Une exploration des bases essentielles du BDSM – consentement\, safewords\, rôles\, objets de plaisir et de douleur – pour mieux comprendre ces pratiques. \n🔹 Partie pratique : À travers exercices\, jeux et démonstrations\, chacun.e est invité.e à explorer ses limites\, rôles et envies : top\, bottom\, switch\, jeux d’impact\, accessoires\, cordes… Un moment pour expérimenter les sensations\, l’énergie et les connexions propres au BDSM. \nAucune expérience préalable n’est requise\, seulement l’envie de découvrir et d’échanger. Chacun.e est libre de participer activement ou d’observer selon son confort.
URL:https://www.demonia.com/pratiques-BDSM/event/atelier-queerweek/
LOCATION:Dèmonia Paris\, 19 rue de la Pierre levée\, Paris\, 75011
CATEGORIES:Ateliers Fétish & BDSM
ATTACH;FMTTYPE=image/jpeg:https://www.demonia.com/pratiques-BDSM/wp-content/uploads/2025/03/19.jpg
END:VEVENT
BEGIN:VEVENT
DTSTART;TZID=Europe/Paris:20220204T220000
DTEND;TZID=Europe/Paris:20220205T060000
DTSTAMP:20260423T005020
CREATED:20250311T104440Z
LAST-MODIFIED:20250311T104509Z
UID:5068-1644012000-1644040800@blog.demonia.com
SUMMARY:Nuit Dèmonia In The Mood For Lust
DESCRIPTION:Une soirée unique aux looks déjantés !\nOsez l’originalité et sublimez votre sensualité en arborant votre plus beau look fetish/BDSM. Latex\, wetlook\, vinyle\, cuir… Laissez libre cours à votre créativité pour une nuit où l’extravagance est la norme. \nLe thème : In the Mood for Lust\nPlongez dans un univers inspiré des cultures asiatiques et laissez naître votre désir le temps d’une nuit d’exception. \nParmi les influences BDSM venues d’Asie\, le shibari occupe une place centrale. Cet art ancestral japonais\, né de techniques de contrainte\, s’est transformé en une discipline alliant torture raffinée et esthétique sublime. La Nuit Dèmonia rendra hommage à cette tradition et bien d’autres encore… \nL’espace d’une nuit\, laissez-vous porter par une immersion sensorielle inédite\, entre avant-gardisme et respect des traditions. \nHabillez-vous de mystère et d’audace\, laissez-vous inspirer par la richesse et les couleurs de ces cultures\, et devenez l’acteur de votre propre fantasme. \nEntrez dans un monde où la liberté s’exprime pleinement\, où le respect et le plaisir coexistent en parfaite harmonie. \nÊtes-vous prêt·e pour ce voyage ? \n\nLe lieu : Le YOYO – Palais de Tokyo\nPour cette édition\, un tout nouveau concept vous attend au YOYO\, avec une playroom repensée et réorganisée pour les plus joueurs. \nSitué au cœur du Palais de Tokyo\, cet espace emblématique de 900m² fusionne le monde de l’art et de la fête. Anciennes salles de la Cinémathèque transformées en un club d’avant-garde\, le YOYO offre un décor underground épuré\, avec 10 mètres de hauteur sous plafond et une mezzanine surplombant la scène. \nDepuis plus de 20 ans\, le Palais de Tokyo marque la scène artistique parisienne\, française et internationale\, en y imprimant son empreinte unique. \n\nAmour et respect\nLa Nuit Dèmonia est un sanctuaire de liberté\, où chacun peut jouer en toute sécurité\, danser sans retenue et profiter des performances artistiques dans l’un des plus prestigieux clubs de Paris. \nIci\, le respect est une règle absolue. C’est un espace où chacun peut être soi-même\, sans crainte de jugement. \n\nLa Nuit Dèmonia : La grande soirée Fetish depuis 1993\nDepuis plus de 30 ans\, la Nuit Dèmonia est une référence incontournable en France et à l’international. \nChaque édition explore un thème unique\, incitant chacun à exprimer sa créativité et sa singularité à travers sa tenue. C’est une célébration de l’imaginaire\, du jeu et du spectacle\, teintée d’une touche théâtrale. \nLa Nuit Dèmonia réunit une diversité de figures de la scène fétichiste et BDSM\, ainsi qu’un éventail d’artistes alternatifs du monde entier. Burlesque\, performances hard\, conceptuelles\, dark ou underground\, tous convergent pour faire de cette nuit un moment magique et envoûtant. \nC’est un événement où tolérance et ouverture d’esprit sont les maîtres-mots. Ici\, vous êtes libre d’être qui vous voulez. \nLa Nuit Dèmonia s’adresse à toutes les âmes ouvertes : des passionnés de l’alternatif aux clubbers stylés\, des amateurs de burlesque créatif aux fétichistes sophistiqués. Hétéro\, gay\, lesbienne\, bisexuel·le\, transgenre ou non-binaire\, tout le monde est bienvenu. \nIl n’existe pas une seule façon de vivre la Nuit Dèmonia\, cette expérience vous appartient. \nNous avons à cœur d’offrir un environnement respectueux et sécurisé\, où chacun peut s’épanouir en toute confiance. \n\nÀ propos de Dèmonia\nDepuis plus de 30 ans\, Dèmonia est la marque de référence du monde fétichiste et BDSM. \nAu-delà des tabous qui entourent ces pratiques\, Dèmonia défend une vision inclusive et libérée\, où chacun peut explorer sa propre palette de plaisirs en toute sérénité. \nAlliant glamour et audace\, Dèmonia prône le respect\, la diversité et l’ouverture d’esprit. \nPlus qu’une marque\, Dèmonia est un acteur engagé\, notamment dans le combat LGBTQIAPK\, œuvrant pour une société plus inclusive et tolérante. \nUne seule question demeure :Oserez-vous franchir les portes de la Nuit Dèmonia ?
URL:https://www.demonia.com/pratiques-BDSM/event/nuit-demonia-in-the-mood-for-lust/
LOCATION:Le Yoyo\, Palais De Tokyo\, 13 Av. du Président Wilson\, Paris\, 75016\, France
CATEGORIES:Soirées Fetish & BDSM
ATTACH;FMTTYPE=image/jpeg:https://www.demonia.com/pratiques-BDSM/wp-content/uploads/2025/03/Nuit-Demonia-In-The-Mood-For-Lust.jpg
END:VEVENT
END:VCALENDAR