BEGIN:VCALENDAR
VERSION:2.0
PRODID:-//Pratiques et accessoires BDSM - Dèmonia - ECPv6.10.1.1//NONSGML v1.0//EN
CALSCALE:GREGORIAN
METHOD:PUBLISH
X-ORIGINAL-URL:https://blog.demonia.com
X-WR-CALDESC:Évènements pour Pratiques et accessoires BDSM - Dèmonia
REFRESH-INTERVAL;VALUE=DURATION:PT1H
X-Robots-Tag:noindex
X-PUBLISHED-TTL:PT1H
BEGIN:VTIMEZONE
TZID:Europe/Paris
BEGIN:DAYLIGHT
TZOFFSETFROM:+0100
TZOFFSETTO:+0200
TZNAME:CEST
DTSTART:20230326T010000
END:DAYLIGHT
BEGIN:STANDARD
TZOFFSETFROM:+0200
TZOFFSETTO:+0100
TZNAME:CET
DTSTART:20231029T010000
END:STANDARD
END:VTIMEZONE
BEGIN:VEVENT
DTSTART;TZID=Europe/Paris:20231026T110000
DTEND;TZID=Europe/Paris:20231028T233000
DTSTAMP:20260420T211039
CREATED:20250314T093723Z
LAST-MODIFIED:20250314T093755Z
UID:5325-1698318000-1698535800@blog.demonia.com
SUMMARY:Première Edition Fetish Week
DESCRIPTION:Fetish Market 2023 : Trois Jours d’Exploration et de Plaisirs Sensuels\nPlongez dans l’univers Fetish & BDSM avec la première édition de la Fetish Market\, un événement étendu et enrichi qui vous offre trois jours d’immersion totale. Que vous soyez curieux·se\, initié·e ou passionné·e\, venez explorer\, expérimenter et échanger dans un cadre inspirant et bienveillant. \n\nÀ quoi s’attendre cette année ?\nUn espace commercial agrandiDeux zones dédiées aux exposants vous proposeront une sélection élargie d’articles et accessoires fétichistes et BDSM : vêtements\, équipements\, artisanat et créations uniques. \nAteliers immersifs & performances captivantesParticipez à des sessions interactives pour découvrir et approfondir vos connaissances\, encadrées par des professionnel·les du BDSM et des pratiques alternatives. Assistez à des performances envoûtantes qui célèbrent la sensualité et l’esthétique fetish. \nEspace découverte : expérimentez en toute sécuritéVous souhaitez tester de nouvelles sensations ? Initiez-vous à diverses pratiques BDSM sous l’accompagnement de spécialistes\, dans un cadre respectueux et sécurisé. \nEspace littéraire : entre fictions et fantasmesDécouvrez une sélection pointue de plus de 100 ouvrages dédiés au BDSM et aux sexualités alternatives\, en partenariat avec une librairie spécialisée. Rencontres\, lectures et animations au programme ! \nExpositions artistiquesAdmirez le travail d’artistes inspiré·es par l’univers Fetish & BDSM\, où corps\, cuir\, latex et attachements prennent vie à travers peintures\, photographies et installations. \n\nFetish Week 2023 : Une Semaine d’Éveil et de Désir\nL’expérience ne s’arrête pas là ! \nAteliers thématiques & initiationsDécouvrez une variété de pratiques BDSM et Fetish\, approfondissez vos connaissances et échangez avec des expert·es du domaine. \nSoirées BDSM & FétichistesQue vous soyez amateur·rice de jeux de rôle\, domination\, soumission ou expériences sensorielles\, ces nuits vous offrent un espace d’exploration et de plaisir partagé dans une ambiance immersive et encadrée. \nLa Nuit Dèmonia : l’apothéose de la Fetish WeekPoint culminant de cette semaine unique\, La Nuit Dèmonia vous invite à une soirée envoûtante et transgressive\, où art\, érotisme et fétichisme fusionnent pour une expérience inoubliable. \n\nPourquoi venir au Fetish Market ?\n\nUne immersion totale dans la culture BDSM & Fetish\nUn espace bienveillant et encadré pour explorer vos désirs\nDes rencontres enrichissantes avec des passionné·es et professionnel·les\nUn programme varié alliant apprentissage\, découverte et plaisir\nUne célébration intense de la sensualité et du fétichisme\n\nNotez les dates et préparez-vous à vivre une expérience hors du commun ! \nPrêt·e à vous laisser séduire ? Rejoignez-nous du 26 au 28 octobre 2023 à La Bellevilloise ! 🖤🔥
URL:https://www.demonia.com/pratiques-BDSM/event/5325/
LOCATION:La Bellevilloise\, 19-21 Rue Boyer\, Paris\, 75020
CATEGORIES:Fetish Week
ATTACH;FMTTYPE=image/jpeg:https://www.demonia.com/pratiques-BDSM/wp-content/uploads/2025/03/fetish-week-2023.jpg
END:VEVENT
BEGIN:VEVENT
DTSTART;TZID=Europe/Paris:20231026T113000
DTEND;TZID=Europe/Paris:20231026T133000
DTSTAMP:20260420T211039
CREATED:20250314T083102Z
LAST-MODIFIED:20250314T085030Z
UID:5272-1698319800-1698327000@blog.demonia.com
SUMMARY:Atelier Construire son archétype dans le monde BDSM
DESCRIPTION:Atelier : Construire son Archétype dans le Monde BDSM\nAnimé par Axelle de Sade \nForgez votre identité dans le BDSM et explorez votre essence profonde\nDans l’univers du BDSM\, chaque rôle\, chaque posture et chaque dynamique de pouvoir reflète une facette unique de nous-mêmes. Mais comment trouver son propre archétype sans tomber dans les clichés ? Comment bâtir une identité BDSM authentique et épanouissante ? \nCet atelier vous propose une exploration introspective et participative\, basée sur la maïeutique\, une méthode qui vous guide à accoucher de votre propre savoir et compréhension. \nCe que vous allez explorer\n🖋 1 – Contextualisation : Comprendre son archétype BDSM\n🔹 Différences entre archétype\, stéréotype et avatar – Se libérer des clichés et découvrir une identité singulière.\n🔹 Pourquoi construire une identité BDSM ? – Comment s’épanouir et naviguer en toute conscience dans cet univers.\n🔹 Les 12 archétypes de Jung appliqués au BDSM – Quelle énergie vous correspond ? Quel rôle vous attire et vous définit ?\n🔹 Outils pratiques pour définir son archétype – Réflexion\, exercices et accompagnement dans cette quête identitaire. \n🔮 2 – Approfondissement de l’archétype : Aller au-delà des apparences\n🔸 Identifier ses motivations profondes et aspirations cachées.\n🔸 Explorer la psychologie et la symbolique derrière son rôle BDSM.\n🔸 Mieux comprendre comment ses désirs et limites influencent son archétype. \n👤 Que vous soyez novice ou expérimenté.e\, cet atelier vous offre un espace d’exploration et de structuration personnelle\, vous permettant d’incarner votre identité de manière affirmée et fluide. \n🖤 Inclusivité et respect : Cet atelier est ouvert à toutes les identités et orientations\, basé sur le consentement\, l’écoute et le respect mutuel. \n⚠ Nudité : NON\n🤝 Interaction physique : Aucune\n📏 Intensité de l’atelier : 0/5 \nÀ propos de l’animatrice : Axelle de Sade\n💡 Figure incontournable du BDSM en France\, Axelle de Sade est co-fondatrice de l’Erosticratie\, des SubSpace et de l’École des Arts Sadiens\, la première école dédiée à l’apprentissage du BDSM en France.\n🏆 Sacrée « SM Queen » en 2021 par Les Inrocks\, elle est dominatrice professionnelle\, conférencière et artiste\, régulièrement sollicitée par les médias et les milieux artistiques.\n🎬 Elle participe à divers projets\, dont le film La Maison d’Anissa Bonnefont. \n🔎 Un atelier puissant et structurant pour se connaître\, se comprendre et s’incarner pleinement dans sa pratique BDSM. \n🎟 Atelier sur inscription – Places limitées \n📢 Plus d’informations et réservations à venir.
URL:https://www.demonia.com/pratiques-BDSM/event/atelier-construire-son-archetype-dans-le-monde-bdsm/
LOCATION:Dèmonia Paris\, 19 rue de la Pierre levée\, Paris\, 75011
CATEGORIES:Ateliers Fétish & BDSM
ATTACH;FMTTYPE=image/jpeg:https://www.demonia.com/pratiques-BDSM/wp-content/uploads/2025/03/29.jpg
END:VEVENT
BEGIN:VEVENT
DTSTART;TZID=Europe/Paris:20231026T143000
DTEND;TZID=Europe/Paris:20231026T163000
DTSTAMP:20260420T211039
CREATED:20250314T083103Z
LAST-MODIFIED:20250314T085247Z
UID:5274-1698330600-1698337800@blog.demonia.com
SUMMARY:Atelier Fetish writing\, Libérez votre plume et vos désirs
DESCRIPTION:Plongez dans l’écriture érotique et explorez vos fantasmes à travers les mots\n🖋 « Puisque la forme est contraignante\, l’idée jaillit plus intense… »\nBaudelaire nous l’a soufflé\, et cet atelier vous invite à en faire l’expérience. \nFetish Writing est un espace créatif\, ludique et inspirant\, où l’écriture devient un jeu\, un terrain d’exploration sensorielle et littéraire. \nDéroulé de l’atelier\n🖊 Jeux d’écriture autour du thème Fetish – Laissez parler les accessoires BDSM\, conjuguez des verbes imaginaires\, placez un sens au cœur de vos récits… \n🖊 Calligramme-collage de vos fantasmes – Une approche artistique et visuelle\, où l’écriture rencontre l’art graphique pour un hommage personnel et sensuel à vos désirs. \n🖊 Partage et lecture – Dans un cadre chaleureux et bienveillant\, chacun·e pourra choisir de lire ses écrits et d’exposer son calligramme. \n📌 Accessible à toutes et tous\, que vous soyez déjà initié·e à l’écriture créative ou non. \nPourquoi participer ?\n💡 Oser ! – Osez les mots\, osez l’écriture\, osez plonger dans une approche littéraire et poétique de votre sexualité.\n💡 Un espace de liberté – Exprimez vos fantasmes dans un cadre sécurisé et inclusif.\n💡 Un atelier ludique et créatif – Découvrez l’écriture érotique à travers des jeux et exercices originaux. \n⚠ Nudité : NON\n🤝 Contact physique : Aucun\n🌈 Tous les genres et toutes les sexualités sont les bienvenu·es\n📏 Intensité de l’atelier : 2/5 \nÀ propos de l’animatrice\n📖 Autrice de poésie érotique et créatrice du jeu Les Mots d’Éros édité par Pyramyd Édition\, elle anime depuis trois ans les Ateliers Éros\, des espaces dédiés à l’initiation et au perfectionnement de l’écriture érotique. \n🖋 Ses ateliers accueillent toutes les plumes\, des plus sages aux plus audacieuses\, et offrent un espace pour explorer en toute liberté son imaginaire\, découvrir celui des autres et interroger la place de l’érotisme dans la littérature. \n🎟 Atelier sur inscription – Places limitées \n📢 Un moment unique pour écrire\, partager et se laisser surprendre par la magie des mots !
URL:https://www.demonia.com/pratiques-BDSM/event/atelier-fetish-writing-liberez-votre-plume-et-vos-desirs/
LOCATION:Dèmonia Paris\, 19 rue de la Pierre levée\, Paris\, 75011
CATEGORIES:Ateliers Fétish & BDSM
ATTACH;FMTTYPE=image/jpeg:https://www.demonia.com/pratiques-BDSM/wp-content/uploads/2025/03/31.jpg
END:VEVENT
END:VCALENDAR