BEGIN:VCALENDAR
VERSION:2.0
PRODID:-//Pratiques et accessoires BDSM - Dèmonia - ECPv6.10.1.1//NONSGML v1.0//EN
CALSCALE:GREGORIAN
METHOD:PUBLISH
X-ORIGINAL-URL:https://blog.demonia.com
X-WR-CALDESC:Évènements pour Pratiques et accessoires BDSM - Dèmonia
REFRESH-INTERVAL;VALUE=DURATION:PT1H
X-Robots-Tag:noindex
X-PUBLISHED-TTL:PT1H
BEGIN:VTIMEZONE
TZID:Europe/Paris
BEGIN:DAYLIGHT
TZOFFSETFROM:+0100
TZOFFSETTO:+0200
TZNAME:CEST
DTSTART:20240331T010000
END:DAYLIGHT
BEGIN:STANDARD
TZOFFSETFROM:+0200
TZOFFSETTO:+0100
TZNAME:CET
DTSTART:20241027T010000
END:STANDARD
END:VTIMEZONE
BEGIN:VEVENT
DTSTART;TZID=Europe/Paris:20241024T110000
DTEND;TZID=Europe/Paris:20241026T230000
DTSTAMP:20260420T051736
CREATED:20250314T093035Z
LAST-MODIFIED:20250314T093102Z
UID:5321-1729767600-1729983600@blog.demonia.com
SUMMARY:Fetish Week 2024
DESCRIPTION:Fetish Market 2024 : Trois jours de découverte et d’expériences uniques\nPlongez au cœur de l’univers fétichiste et BDSM avec une édition étendue et enrichie du Fetish Market ! Cette année\, trois jours d’exploration\, d’apprentissage et de performances vous attendent pour une immersion totale dans la culture Fetish & BDSM. \nÀ quoi s’attendre au Fetish Market ?\nDeux espaces distincts pour les exposants\nDécouvrez une diversité élargie de produits et d’articles fétichistes et BDSM\, avec des artisans\, créateurs et marques incontournables du milieu. \nAteliers éducatifs & performances\nVivez une expérience immersive avec un programme enrichi d’ateliers animés par des expert·es du BDSM et des pratiques alternatives. Assistez à des performances captivantes qui repoussent les limites de l’expression artistique et sensuelle. \nEspace découverte\nUn espace sécurisé dédié aux initiations : explorez différentes pratiques sous la supervision de professionnel·les qualifié·es. \nNouveau ! Espace de coaching sexologique\nUn espace confidentiel et bienveillant\, animé par une coach sexologue\, pour échanger sur votre sexualité\, poser vos questions et obtenir des conseils personnalisés. \nEspace littéraire\nPlongez dans une collection exclusive de plus de 100 références en littérature et bande dessinée BDSM\, avec animations et rencontres autour du livre. \nExpositions artistiques\nAdmirez les œuvres d’artistes fétichistes et BDSM\, explorant le désir\, l’esthétique et les fantasmes sous toutes leurs formes. \n\nFetish Week 2024 : Une Semaine d’Exploration et de Plaisirs Partagés\nUne programmation qui va bien au-delà du marché ! \nAteliers immersifs & éducatifsExplorez une multitude de pratiques\, de la domination aux jeux sensoriels\, en passant par l’esthétique Fetish et les dynamiques BDSM. \nSoirées Fétichistes & BDSMVivez des nuits uniques\, où se mêlent jeux de rôle\, domination\, soumission et autres plaisirs fétichistes dans un espace immersif et sécurisé. Dansez\, jouez\, rencontrez… \nLa Nuit Dèmonia : Le Climax de la Fetish Week !L’événement clôture en apothéose cette semaine fétichiste avec une soirée légendaire\, mêlant décadence\, esthétisme et plaisirs interdits. Une expérience inoubliable pour les passionné·es et les curieux·ses. \n\nPourquoi participer ?\n\nDécouvrir et expérimenter dans un cadre bienveillant et encadré\nRencontrer des passionné·es et enrichir sa culture BDSM & Fetish\nApprendre avec des professionnel·les reconnu·es\nS’immerger dans un univers artistique\, sensoriel et transgressif\nCélébrer et vivre pleinement ses désirs\n\n📍 La Bellevilloise\, Paris📅 Dates : 24-25-26 Octobre 2024 \nRestez à l’affût pour le programme détaillé et les inscriptions ! \nPrêt·e à explorer les profondeurs du Fetish et du BDSM ? Rejoignez-nous pour une semaine hors du temps ! 🖤🔥
URL:https://www.demonia.com/pratiques-BDSM/event/fetish-week-2024/
LOCATION:La Bellevilloise\, 19-21 Rue Boyer\, Paris\, 75020
CATEGORIES:Fetish Week
ATTACH;FMTTYPE=image/jpeg:https://www.demonia.com/pratiques-BDSM/wp-content/uploads/2025/03/fetish-week.jpg
END:VEVENT
BEGIN:VEVENT
DTSTART;TZID=Europe/Paris:20241024T121500
DTEND;TZID=Europe/Paris:20241024T151500
DTSTAMP:20260420T051736
CREATED:20250312T153755Z
LAST-MODIFIED:20250314T091722Z
UID:5171-1729772100-1729782900@blog.demonia.com
SUMMARY:Atelier Inititation au Shibari
DESCRIPTION:Découvrez les Fondamentaux du Shibari en Toute Sécurité\nPlongez dans l’univers du Shibari\, l’art japonais du bondage\, lors d’un atelier conçu pour initier en douceur à cette pratique fascinante. En trois heures\, Stéphanie Doe vous guidera à travers les bases techniques et les considérations essentielles de sécurité physique et psychologique. \nDéroulé de l’atelier\n🔹 Introduction & sécurité : Comprendre les risques et précautions du Shibari pour une pratique éthique et sécurisée.\n🔹 Apprentissage pratique : Initiation à un nœud d’accroche et à un bondage structuré sur la jambe\, une zone du corps moins engageante et plus accessible pour débuter.\n🔹 Changement de rôle possible : Selon les envies des participant.e.s\, possibilité d’explorer les rôles de ropeur et de modèle.\n🔹 Clôture & partage : Temps d’échange et de discussion pour enrichir l’expérience. \nCet atelier est ouvert à toutes et tous\, sans prérequis\, que vous soyez curieux.se ou souhaitiez approfondir une première approche respectueuse du Shibari. \nInformations pratiques\n📅 Jeudi 24 octobre\, de 12h15 à 15h15\n📍 Fetish Market – La Bellevilloise\, Paris 20e \nRègles d’interaction\n🔸 Nudité possible mais non requise.\n🔸 Contact physique présent\, mais aucun contact génital ou inter-génital.\n🔸 Interaction avec un.e seul.e partenaire possible.\n🔸 Participation sans interaction également autorisée. \n📏 Intensité de l’atelier : 🔥 1/5 \nÀ propos de l’animatrice : Stéphanie Doe\nPassionnée de transmission et de création\, Stéphanie Doe explore l’intime et les dynamiques relationnelles depuis près de 20 ans.\n💡 Praticienne du BDSM depuis 2005\, elle enseigne le Shibari depuis 2016\, co-animant des événements pédagogiques et co-écrivant trois guides d’apprentissage.\n🖋️ Thérapeute spécialisée en sexo-analyse depuis 2018\, elle associe aujourd’hui Shibari\, toucher conscient et thérapie pour accompagner les personnes en quête de reconnexion à soi et à l’autre.\n📚 Formatrice auprès des thérapeutes\, elle milite pour une dé-stigmatisation du BDSM et du Shibari dans la sexualité. \nUn atelier idéal pour découvrir le Shibari sous un angle sécurisant\, pédagogique et profondément respectueux du lien humain.
URL:https://www.demonia.com/pratiques-BDSM/event/atelier-inititation-au-shibari/
LOCATION:La Bellevilloise\, 19-21 Rue Boyer\, Paris\, 75020
CATEGORIES:Ateliers Fétish & BDSM
ATTACH;FMTTYPE=image/jpeg:https://www.demonia.com/pratiques-BDSM/wp-content/uploads/2025/03/10.jpg
END:VEVENT
BEGIN:VEVENT
DTSTART;TZID=Europe/Paris:20241024T141500
DTEND;TZID=Europe/Paris:20241024T171500
DTSTAMP:20260420T051736
CREATED:20250312T151437Z
LAST-MODIFIED:20250314T091823Z
UID:5165-1729779300-1729790100@blog.demonia.com
SUMMARY:Atelier - confection de lingerie en Latex
DESCRIPTION:Initiez-vous à l’Art du Latex et Repartez avec Votre Création !\nPlongez dans l’univers du latex avec cet atelier d’initiation à la confection de lingerie\, animé par Lulu Latex. Que vous soyez curieux.se\, passionné.e ou simplement désireux.se d’explorer ce matériau iconique\, cet atelier vous permettra de découvrir les bases de sa manipulation et de créer votre propre pièce unique. \nAprès une présentation du latex\, de son histoire et de ses caractéristiques\, vous passerez à la pratique dans une atmosphère bienveillante et collaborative. Culotte\, string\, jockstrap… c’est vous qui choisissez ! Vous repartirez ensuite avec votre création\, prête à être portée. \nInformations pratiques\n📅 Jeudi 24 octobre\, de 14h15 à 17h15\n📍 Fetish Market – La Bellevilloise\, Paris 20e \nRègles d’interaction\n🔸 Nudité partielle possible uniquement lors des essayages.\n🔸 Aucun contact physique entre les participant.e.s (ni contact génital\, ni inter-génital).\n🔸 Possibilité d’interagir avec un.e seul.e partenaire pendant l’atelier.\n🔸 Participation sans interaction avec les autres possible. \n📏 Intensité de l’atelier : 🔥 1/5 \nÀ propos de l’animateur : Lulu Latex\nCréateur autodidacte\, Lulu Latex développe depuis trois ans son atelier\, mêlant univers fetish et festif. Installé à Marseille\, il conçoit des vêtements et accessoires exclusivement en latex\, avec une volonté affirmée de magnifier tous les corps\, quelle que soit leur diversité. \nUn atelier parfait pour s’initier à cette matière fascinante et repartir avec une pièce unique ! »
URL:https://www.demonia.com/pratiques-BDSM/event/atelier-confection-de-lingerie-en-latex-2/
LOCATION:La Bellevilloise\, 19-21 Rue Boyer\, Paris\, 75020
CATEGORIES:Ateliers Fétish & BDSM
ATTACH;FMTTYPE=image/jpeg:https://www.demonia.com/pratiques-BDSM/wp-content/uploads/2025/03/7.jpg
END:VEVENT
BEGIN:VEVENT
DTSTART;TZID=Europe/Paris:20241024T153000
DTEND;TZID=Europe/Paris:20241024T183000
DTSTAMP:20260420T051736
CREATED:20250312T151437Z
LAST-MODIFIED:20250314T091552Z
UID:5166-1729783800-1729794600@blog.demonia.com
SUMMARY:Atelier Needle play
DESCRIPTION:Découvrez l’Art du Needle Play\, entre Précision et Créativité\nPlongez dans une expérience unique\, guidée par Diane Killer\, véritable experte de l’aiguille et figure incontournable du BDSM hard. À la croisée de la technique et de l’expression artistique\, cet atelier vous invite à explorer l’univers du Needle Play\, en transformant l’aiguille en outil de création graphique. \nDiane vous accompagnera avec précision et bienveillance pour vous enseigner les bases de cette pratique fascinante :\n🔹 Maîtriser le geste précis de l’aiguille et créer des motifs graphiques éblouissants.\n🔹 Explorer l’aiguille sous un angle esthétique\, loin de sa simple connotation douloureuse.\n🔹 Apprendre les protocoles d’hygiène et de sécurité\, indispensables pour une pratique en toute sérénité.\n🔹 S’initier à la sublimation du corps\, en élevant cette pratique au rang d’art corporel précieux. \nUn atelier où créativité\, technique et dépassement de soi se rencontrent pour vous offrir une expérience inoubliable. \nInformations pratiques\n📅 Jeudi 24 octobre\, de 15h30 à 18h30\n📍 Fetish Market – La Bellevilloise\, Paris 20e \nRègles d’interaction\n🔸 Nudité partielle possible selon le confort des participant.e.s.\n🔸 Contact physique autorisé\, mais sans contact génital ni inter-génital.\n🔸 Travail en binôme recommandé : les participant.e.s peuvent interagir avec un.e seul.e partenaire.\n🔸 Possibilité d’assister sans interaction physique. \n📏 Intensité de l’atelier : 🔥 5/5 \nÀ propos de l’animatrice : Diane Killer\nSpécialiste de l’aiguille et artiste BDSM\, Diane Killer est une figure incontournable de cette discipline. Formatrice\, performeuse et dominatrice professionnelle\, elle anime régulièrement des workshops en France et à l’étranger\, réalise des performances scéniques saisissantes et repousse les limites du body art en créant des œuvres aussi audacieuses qu’innovantes. \nConférencière\, chroniqueuse radio\, autrice et organisatrice d’événements\, Diane multiplie les projets dans la sexosphère\, la culture et les médias\, faisant d’elle une référence incontournable du Needle Play et du BDSM hard. \nUn atelier intense et exclusif pour les amateurs de nouvelles expériences et les passionnés de body art extrême « 
URL:https://www.demonia.com/pratiques-BDSM/event/atelier-needle-play/
LOCATION:La Bellevilloise\, 19-21 Rue Boyer\, Paris\, 75020
CATEGORIES:Ateliers Fétish & BDSM
ATTACH;FMTTYPE=image/jpeg:https://www.demonia.com/pratiques-BDSM/wp-content/uploads/2025/03/8.jpg
END:VEVENT
BEGIN:VEVENT
DTSTART;TZID=Europe/Paris:20241024T173000
DTEND;TZID=Europe/Paris:20241024T183000
DTSTAMP:20260420T051736
CREATED:20250312T143620Z
LAST-MODIFIED:20250312T143620Z
UID:5154-1729791000-1729794600@blog.demonia.com
SUMMARY:Atelier - Initiation théorique au BDSM
DESCRIPTION:Atelier Offert – Initiation Théorique au BDSM\nAnimé par Vina\, spécialiste des dynamiques relationnelles et de la sexologie \nDécouvrez l’univers du BDSM dans un cadre bienveillant\nVous êtes curieux.se d’explorer le BDSM ou souhaitez approfondir vos connaissances sur ses pratiques ? Cet atelier\, animé par Vina\, experte en sexologie et relations\, vous offre une approche pédagogique et respectueuse de ce monde fascinant. \nObjectifs de l’atelier\n\nCet atelier a pour vocation d’initier les participants aux fondements du BDSM en abordant :\nLes notions essentielles : kinks\, safeword\, SSC (Sûr\, Sain et Consensuel).\nLes dynamiques de pouvoir entre dominants et soumis.\nL’importance du consentement\, de la communication et des limites personnelles\, piliers d’une pratique saine.\nLes pratiques et outils utilisés\, avec un accent particulier sur la sécurité.\n\nPourquoi participer ?\n\nUne approche éducative : Aucune expérience préalable n’est requise. Atelier ouvert aux débutants\, ainsi qu’aux professionnels (sexologues\, thérapeutes\, chercheurs).\nUn espace bienveillant : Un cadre sécurisant et sans jugement\, propice aux échanges et aux questions. Aucune scène explicite ne sera abordée.\nUn regard psychologique : Discussion sur la confiance\, la vulnérabilité et la gestion des émotions dans le BDSM.\n\nÀ propos de l’intervenante\nVina est une professionnelle reconnue en sexologie et dynamiques relationnelles\, spécialisée dans l’accompagnement et l’éducation autour des pratiques BDSM. À travers ses ateliers et coachings\, elle démystifie les préjugés et place communication\, consentement et sécurité au cœur de son approche. \nInformations pratiques\n📅 Jeudi 24 octobre – 🕠 17h30 à 18h45📍 Fetish Market – La Bellevilloise\, Paris 20e🎟 Atelier gratuit – Places limitées à 10 participants. \n🔔 Ne tardez pas à réserver votre place !
URL:https://www.demonia.com/pratiques-BDSM/event/atelier-initiation-theorique-au-bdsm/
LOCATION:La Bellevilloise\, 19-21 Rue Boyer\, Paris\, 75020
CATEGORIES:Ateliers Fétish & BDSM
ATTACH;FMTTYPE=image/jpeg:https://www.demonia.com/pratiques-BDSM/wp-content/uploads/2025/03/Atelier-Initiation-theorique-au-BDSM.jpg
END:VEVENT
END:VCALENDAR