BEGIN:VCALENDAR
VERSION:2.0
PRODID:-//Pratiques et accessoires BDSM - Dèmonia - ECPv6.10.1.1//NONSGML v1.0//EN
CALSCALE:GREGORIAN
METHOD:PUBLISH
X-ORIGINAL-URL:https://blog.demonia.com
X-WR-CALDESC:Évènements pour Pratiques et accessoires BDSM - Dèmonia
REFRESH-INTERVAL;VALUE=DURATION:PT1H
X-Robots-Tag:noindex
X-PUBLISHED-TTL:PT1H
BEGIN:VTIMEZONE
TZID:Europe/Paris
BEGIN:DAYLIGHT
TZOFFSETFROM:+0100
TZOFFSETTO:+0200
TZNAME:CEST
DTSTART:20220327T010000
END:DAYLIGHT
BEGIN:STANDARD
TZOFFSETFROM:+0200
TZOFFSETTO:+0100
TZNAME:CET
DTSTART:20221030T010000
END:STANDARD
END:VTIMEZONE
BEGIN:VEVENT
DTSTART;TZID=Europe/Paris:20220408T191500
DTEND;TZID=Europe/Paris:20220408T213000
DTSTAMP:20260422T111134
CREATED:20250314T083046Z
LAST-MODIFIED:20250314T084706Z
UID:5260-1649445300-1649453400@blog.demonia.com
SUMMARY:QueerWeek : Atelier Initiation au shibari
DESCRIPTION:Initiation aux cordes et au shibari\nEnvie de découvrir les sensations uniques des cordes et des nœuds ? Cet atelier est l’occasion parfaite pour explorer le shibari en toute bienveillance\, poser vos questions et\, pourquoi pas\, oser essayer pour la première fois. \n🔹 Démonstrations et exercices pratiques pour s’initier en douceur\n🔹 Un espace d’échange pour poser toutes vos questions sur cette pratique \n📌 À prévoir : Si vous avez des cordes\, apportez-les ! \nAucune expérience préalable requise\, seulement l’envie de partager cette exploration en groupe. Chacun·e est libre de participer activement ou d’observer. \n📍 Modalités d’inscription\n→ Atelier en binôme (inscription par duo).\n→ Événement queer & LGBTQI+ friendly\, ouvert aux lesbiennes\, trans\, gays\, bisexuel·les\, pansexuel·les\, non-binaires\, genderfluid et toute personne ouverte et respectueuse. \nÀ propos de FloZif\nFloZif pratique et enseigne le shibari lors d’événements internationaux ainsi que dans ses cours dédiés aux cordes\, Fairy Ropes et Pop Cordes Marseille. \nDepuis plusieurs années\, iel organise la soirée PlayNight ainsi que des ateliers autour du kink et du BDSM pour un public queer. Iel est également à l’origine de festivals comme What the Fuck? Fest!\, dédiés aux arts et aux sexualités alternatives\, ainsi que de projections de films underground. Son travail explore le corps\, les identités de genre et les sexualités non normatives à travers performances et créations artistiques.
URL:https://www.demonia.com/pratiques-BDSM/event/queerweek-atelier-initiation-au-shibari/
LOCATION:Dèmonia Paris\, 19 rue de la Pierre levée\, Paris\, 75011
CATEGORIES:Ateliers Fétish & BDSM
ATTACH;FMTTYPE=image/jpeg:https://www.demonia.com/pratiques-BDSM/wp-content/uploads/2025/03/22.jpg
END:VEVENT
BEGIN:VEVENT
DTSTART;TZID=Europe/Paris:20220422T193000
DTEND;TZID=Europe/Paris:20220422T230000
DTSTAMP:20260422T111134
CREATED:20250314T083046Z
LAST-MODIFIED:20250314T084736Z
UID:5259-1650655800-1650668400@blog.demonia.com
SUMMARY:Atelier d’écriture : Jeux de plumes III
DESCRIPTION:Laissez l’écriture attiser vos désirs\nVenez libérer votre plume\, créer vos histoires et laisser votre imagination onduler sur le papier. \nGuidé·es par Éros\, spécialiste de l’écriture créative\, plongez dans un univers où les accessoires et les tenues de l’antre Dèmonia deviennent source d’inspiration. \nEnsemble\, Éros et Dèmonia vous invitent à une exploration poétique et littéraire des matières\, des décors et des personnages qui habitent vos fantasmes. À travers des défis d’écriture captivants\, vous serez conduit·es vers un moment de lecture et de partage lors d’une soirée inédite. \nOsez exprimer vos désirs à travers vos mots et vos scénarios érotiques. Osez écrire ce que vous n’avez jamais dit. \n📍 Pourquoi participer à cet événement unique ?\nParce que c’est l’occasion d’oser :\n✦ Imaginer sans retenue\n✦ Partager ses fantasmes en toute liberté\n✦ Explorer une approche littéraire et sensuelle de sa sexualité\, dans un cadre bienveillant et chaleureux \nToutes les plumes sont les bienvenues : sensuelles\, déjantées\, timides\, brûlantes\, glaciales\, dominantes\, soumises\, dentelles\, vinyles\, cuirs\, animales… Et si vous ne savez pas encore quelle plume vous caractérise\, laissez-vous surprendre\, vous le découvrirez sur place ! \n✨ Un cadeau pour vous… ou à vous offrir\nÉros vous offrira\, sur demande\, un poème personnalisé et un marque-page unique\, souvenir de cette expérience littéraire et érotique. \n⚠️ Places limitées pour garantir un atelier intimiste et de qualité.
URL:https://www.demonia.com/pratiques-BDSM/event/atelier-decriture-jeux-de-plumes-iii/
LOCATION:Dèmonia Paris\, 19 rue de la Pierre levée\, Paris\, 75011
CATEGORIES:Ateliers Fétish & BDSM
ATTACH;FMTTYPE=image/jpeg:https://www.demonia.com/pratiques-BDSM/wp-content/uploads/2025/03/21.jpg
END:VEVENT
END:VCALENDAR