BEGIN:VCALENDAR
VERSION:2.0
PRODID:-//Pratiques et accessoires BDSM - Dèmonia - ECPv6.10.1.1//NONSGML v1.0//EN
CALSCALE:GREGORIAN
METHOD:PUBLISH
X-WR-CALNAME:Pratiques et accessoires BDSM - Dèmonia
X-ORIGINAL-URL:https://blog.demonia.com
X-WR-CALDESC:Évènements pour Pratiques et accessoires BDSM - Dèmonia
REFRESH-INTERVAL;VALUE=DURATION:PT1H
X-Robots-Tag:noindex
X-PUBLISHED-TTL:PT1H
BEGIN:VTIMEZONE
TZID:Europe/Paris
BEGIN:DAYLIGHT
TZOFFSETFROM:+0100
TZOFFSETTO:+0200
TZNAME:CEST
DTSTART:20240331T010000
END:DAYLIGHT
BEGIN:STANDARD
TZOFFSETFROM:+0200
TZOFFSETTO:+0100
TZNAME:CET
DTSTART:20241027T010000
END:STANDARD
END:VTIMEZONE
BEGIN:VEVENT
DTSTART;TZID=Europe/Paris:20241025T121500
DTEND;TZID=Europe/Paris:20241025T144500
DTSTAMP:20260420T034115
CREATED:20250312T153756Z
LAST-MODIFIED:20250314T091329Z
UID:5173-1729858500-1729867500@blog.demonia.com
SUMMARY:Atelier - Playground of submission and masochism
DESCRIPTION:Explorez votre rapport à la soumission et au masochisme à travers le jeu et l’expérimentation\nPlongez dans un atelier d’exploration et de découverte autour des dynamiques Sub/Bottom/Maso. Que vous soyez novice ou initié.e\, cet espace vous invite à questionner\, expérimenter et ressentir les multiples facettes de la soumission à travers des échanges\, des mises en situation et des jeux de rôle ludiques et immersifs. \nCe que vous allez découvrir\n🔹 Soumission : signification et perception – Qu’évoque ce mot pour vous ? Quelle est votre propre relation au rôle de sub/bottom ?\n🔹 Consentement\, sécurité et hygiène – Les bases indispensables pour une pratique saine\, respectueuse et sans risque.\n🔹 Exploration ludique – Deux à trois jeux de groupe pour expérimenter le lâcher-prise\, se tester en solo\, en binôme ou avec l’animatrice si souhaité.\n🔹 Les pratiques et scénarios possibles – Découvrez les jouets\, les mises en scène et les jeux de domination/soumission qui peuvent enrichir votre expérience.\n🔹 Déconstruction et épanouissement – Comment la soumission peut devenir un outil d’accomplissement personnel\, d’exploration et de plaisir\, en dehors des clichés et des normes. \n« Il n’y a pas une seule manière d’être soumis.e. Il n’y a que celle qui vous ressemble. » \nInformations pratiques\n📅 Samedi 25 octobre\, de 12h15 à 14h45\n📍 Fetish Market – La Bellevilloise\, Paris 20e \nRègles d’interaction\n🔸 Contact physique possible\, avec ou sans contact génital\, sous réserve du consentement explicite de toutes les personnes impliquées.\n🔸 Possibilité de contact inter-génital\, selon les limites définies par les participant.e.s.\n🔸 Possibilité de travailler avec un.e seul.e partenaire tout au long de l’atelier.\n🔸 Participation sans interaction physique possible pour celles et ceux souhaitant uniquement observer et réfléchir. \n📏 Intensité de l’atelier : 🔥 Variable entre 1 et 5\, selon l’implication et les envies de chacun.e. \nÀ propos de l’animatrice : Nox\n🔹 Plongée dans l’univers du BDSM depuis plus de 6 ans\, Nox explore avec passion les dynamiques de domination/soumission\, en embrassant les rôles de sadique et de maso.\n🔹 Adepte de la sexualité créative\, elle aime expérimenter sans tabous ni préjugés\, encourageant une communication transparente pour explorer fantasmes et désirs en toute liberté.\n🔹 Sa plus grande décompression ? Plonger dans l’univers du bottom et du masochisme\, un espace de lâcher-prise qui l’amène à décortiquer et réinventer les codes du BDSM. \nUn atelier conçu pour expérimenter sans jugement\, apprendre à se connaître et repousser les frontières de sa propre sensualité.
URL:https://www.demonia.com/pratiques-BDSM/event/atelier-playground-of-submission-and-masochism/
LOCATION:La Bellevilloise\, 19-21 Rue Boyer\, Paris\, 75020
CATEGORIES:Ateliers Fétish & BDSM
ATTACH;FMTTYPE=image/jpeg:https://www.demonia.com/pratiques-BDSM/wp-content/uploads/2025/03/12.jpg
END:VEVENT
BEGIN:VEVENT
DTSTART;TZID=Europe/Paris:20241025T123000
DTEND;TZID=Europe/Paris:20241025T143000
DTSTAMP:20260420T034115
CREATED:20250312T153755Z
LAST-MODIFIED:20250314T091434Z
UID:5170-1729859400-1729866600@blog.demonia.com
SUMMARY:Atelier - Eros au Japon
DESCRIPTION:Animé par S’iel te plaît \nQuand l’écriture érotique rencontre les saveurs du Japon\n🖋️ Imaginez\, dégustez\, écrivez… Plongez dans un atelier d’écriture créative unique\, où se mêlent l’univers BDSM japonais et les plaisirs culinaires nippons. \nGuidé.e.s par des consignes d’écriture à la fois inspirantes et stimulantes\, les participant.e.s exploreront le désir et la sensualité\, nourris par des expériences gustatives et des œuvres littéraires sulfureuses. \n✨ Repartez avec un souvenir en bouche et un présent à emporter\, empreint de mots\, de volupté et d’une touche de Japon. \n🖋️ Débutant.e.s et plumes confirmées bienvenu.e.s !\nCet atelier est conçu comme une safe place\, où la bienveillance et le consentement guident chaque geste\, chaque texte et chaque écoute. \nInformations pratiques\n📅 Vendredi 25 octobre\, de 12h30 à 14h30\n📍 Fetish Market – La Bellevilloise\, Paris 20e \nRègles d’interaction\n🔸 Nudité possible si elle ne gêne pas les autres participant.e.s.\n🔸 Aucun contact physique entre les participant.e.s (ni contact génital\, ni inter-génital).\n🔸 Interactions collectives privilégiées\, pas de travail en binôme exclusif.\n🔸 La participation sans interaction avec le groupe n’est pas possible. \n📏 Intensité de l’atelier : 🔥 1/5 \nÀ propos de l’animatrice : S’iel te plaît (Victoria Aschème)\n📖 Écrivain.e\, poète et passionné.e d’érotisme\, Victoria Aschème explore la sensualité des mots et du corps à travers ses textes et ses ateliers.\n🖤 Animant des sessions pour Éros Écriture Érotique\, iel mêle avec finesse écriture\, lecture et exploration du désir\, cherchant toujours cette frontière floue entre voyeurisme et exhibitionnisme littéraire. \nUn atelier idéal pour celles et ceux qui aiment jouer avec les mots\, les sens et les fantasmes !
URL:https://www.demonia.com/pratiques-BDSM/event/atelier-eros-au-japon/
LOCATION:La Bellevilloise\, 19-21 Rue Boyer\, Paris\, 75020
CATEGORIES:Ateliers Fétish & BDSM
ATTACH;FMTTYPE=image/jpeg:https://www.demonia.com/pratiques-BDSM/wp-content/uploads/2025/03/9.jpg
END:VEVENT
BEGIN:VEVENT
DTSTART;TZID=Europe/Paris:20241025T143000
DTEND;TZID=Europe/Paris:20241025T163000
DTSTAMP:20260420T034115
CREATED:20250312T140550Z
LAST-MODIFIED:20250312T140813Z
UID:5144-1729866600-1729873800@blog.demonia.com
SUMMARY:Atelier Dompter le BDSM dans son couple
DESCRIPTION:Atelier « Dompter le BDSM dans son couple »\nAnimé par Diane de Séléné \nPlongez au cœur d’une expérience immersive\nCet atelier participatif invite 14 inscrits à explorer les liens entre BDSM et Arts du Cirque\, afin d’en extraire des pratiques adaptées à la dynamique d’un couple Dominant/soumis dans la vie quotidienne. Pendant deux heures\, vous alternerez réflexion\, échanges et exercices pratiques pour enrichir votre approche du BDSM. \nDéroulé de l’atelier\n\nIntroduction : Présentation de l’atelier\, de l’animatrice et tour de table des participants.\nExploration : Discussion interactive sur les liens entre le BDSM et les Arts du Cirque.\nAtelier flash : Recherche collective de solutions aux défis rencontrés dans la pratique du BDSM en couple.\nClôture : Retour d’expérience et tour de table final.\n\nObjectifs\n\n Intégrer le BDSM dans une relation de couple Ds.\nDévelopper une approche artistique et créative de sa pratique.\nIdentifier des pratiques concrètes à expérimenter dans son couple.\nPartager et apprendre entre pairs\, en s’inspirant mutuellement.\n\nQuand et où ?\n\nVendredi 25 octobre\, de 14h45 à 16h45\nFetish Market – La Bellevilloise\, 19-21 Rue Boyer\, Paris 20e\n\nRègles d’interaction\n\nNudité autorisée si cela ne gêne aucun participant.\nAucun contact physique entre participants (ni contact génital direct ou indirect).\nChangement de partenaire obligatoire durant l’atelier.\nParticipation sans interaction possible pour ceux qui le souhaitent.\n\n📏 Intensité de l’atelier : 🔥 1/5 \nÀ propos de l’animatrice : Diane de Séléné\nPratiquant le BDSM depuis 15 ans dans le cadre de son couple\, Diane de Séléné est une Domina Lifestyle. Forte d’une expérience en formation professionnelle\, elle anime régulièrement des ateliers explorant divers aspects du BDSM : relations Ds\, protocole\, fétichisme des pieds ou encore BDSM sans accessoires. \nAu-delà de ses interventions\, Diane partage sa vision du BDSM comme un art et une philosophie de vie\, notamment via des lives Instagram (À la croisée des Mondes) et des éditos sur Fetlife. \nRejoignez cet atelier et laissez-vous guider vers une approche intense et créative du BDSM dans votre couple !
URL:https://www.demonia.com/pratiques-BDSM/event/atelier-dompter-le-bdsm-dans-son-couple/
LOCATION:La Bellevilloise\, 19-21 Rue Boyer\, Paris\, 75020
CATEGORIES:Ateliers Fétish & BDSM
ATTACH;FMTTYPE=image/jpeg:https://www.demonia.com/pratiques-BDSM/wp-content/uploads/2025/03/Atelier-Dompter-le-BDSM-dans-son-couple.jpg
END:VEVENT
BEGIN:VEVENT
DTSTART;TZID=Europe/Paris:20241025T164500
DTEND;TZID=Europe/Paris:20241025T184500
DTSTAMP:20260420T034115
CREATED:20250312T153755Z
LAST-MODIFIED:20250314T090720Z
UID:5172-1729874700-1729881900@blog.demonia.com
SUMMARY:Atelier Eveil ancestral : la voie de l'extase anale
DESCRIPTION:Atelier Éveil Ancestral : La Voie de l’Extase Anale\nAnimé par Juan Carlos de La Fistinière \nUn Voyage Sensoriel et Spirituel vers l’Épanouissement Sexuel\nPlongez dans une expérience transformatrice avec Juan Carlos\, sexothérapeute et spécialiste du mieux-être sexuel. Cet atelier vous invite à explorer une approche consciente\, sécurisée et libératrice de la sexualité anale\, en intégrant pratiques ancestrales\, sexpiritualité et techniques modernes. \nCe que vous allez découvrir\n🔹 Connexion Personnelle & Spirituelle – La sexualité anale comme chemin d’éveil et d’extase\, une exploration sacrée du corps et de l’esprit.\n🔹 Techniques Ancestrales & Respiration – Pratiques de relaxation et de préparation anogénitale\, pour une expérience fluide et consciente.\n🔹 Sécurité & Consentement – Les bases du dialogue\, du respect mutuel et de la prévention\, pour une approche éthique et éclairée.\n🔹 Déconstruire les Tabous – Exploration des préjugés culturels et des freins mentaux\, afin d’embrasser une sexualité libre de honte.\n🔹 Anatomie & Prévention – Comprendre son corps\, respecter ses signaux et éviter les blessures en toute conscience et sérénité.\n🔹 Hygiène & Préparation – Découvrez la fameuse « Trousse à Q »\, un guide pratique pour assurer une hygiène irréprochable et une expérience agréable.\n🔹 Éveil Corporel & Expérimentation Guidée – Exercices corporels\, massages et techniques avancées du Fist-Fucking\, pour explorer et maximiser son potentiel orgasmique. \nInformations pratiques\n📅 Vendredi 25 octobre\, de 16h45 à 18h45\n📍 Fetish Market – La Bellevilloise\, Paris 20e \nRègles d’interaction\n🔸 Nudité possible\, mais non obligatoire.\n🔸 Contact physique autorisé\, mais aucun contact génital ni inter-génital.\n🔸 Travail en binôme possible avec un.e seul.e partenaire.\n🔸 Participation sans interaction possible pour ceux souhaitant uniquement observer et apprendre. \n📏 Intensité de l’atelier : 🔥 5/5 \nÀ propos de l’animateur : Juan Carlos\n🌍 Sexothérapeute\, coach en épanouissement sexuel et praticien en massage californien\, Juan Carlos fusionne spiritualité et sexualité pour créer des expériences de transformation profonde.\n🏡 Co-fondateur de La Fistinière\, première maison d’hôtes dédiée au fist-fucking et à la sexualité hard\, il milite pour une transmission ouverte et inclusive des savoirs liés aux pratiques sexuelles.\n🎭 Auteur\, conférencier et performeur\, il partage son expertise à travers des ateliers\, des podcasts et des festivals\, déconstruisant les tabous et explorant le fisting et le BDSM comme des formes d’art. \nJuan Carlos vous propose une exploration sans précédent\, où le corps\, le mental et l’esprit s’entrelacent pour éveiller une magie profonde et primitive.
URL:https://www.demonia.com/pratiques-BDSM/event/atelier-eveil-ancestral-la-voie-de-lextase-anale/
LOCATION:La Bellevilloise\, 19-21 Rue Boyer\, Paris\, 75020
CATEGORIES:Ateliers Fétish & BDSM
ATTACH;FMTTYPE=image/jpeg:https://www.demonia.com/pratiques-BDSM/wp-content/uploads/2025/03/11.jpg
END:VEVENT
END:VCALENDAR