BEGIN:VCALENDAR
VERSION:2.0
PRODID:-//Pratiques et accessoires BDSM - Dèmonia - ECPv6.10.1.1//NONSGML v1.0//EN
CALSCALE:GREGORIAN
METHOD:PUBLISH
X-WR-CALNAME:Pratiques et accessoires BDSM - Dèmonia
X-ORIGINAL-URL:https://blog.demonia.com
X-WR-CALDESC:Évènements pour Pratiques et accessoires BDSM - Dèmonia
REFRESH-INTERVAL;VALUE=DURATION:PT1H
X-Robots-Tag:noindex
X-PUBLISHED-TTL:PT1H
BEGIN:VTIMEZONE
TZID:Europe/Paris
BEGIN:DAYLIGHT
TZOFFSETFROM:+0100
TZOFFSETTO:+0200
TZNAME:CEST
DTSTART:20230326T010000
END:DAYLIGHT
BEGIN:STANDARD
TZOFFSETFROM:+0200
TZOFFSETTO:+0100
TZNAME:CET
DTSTART:20231029T010000
END:STANDARD
END:VTIMEZONE
BEGIN:VEVENT
DTSTART;TZID=Europe/Paris:20230608T190000
DTEND;TZID=Europe/Paris:20230608T213000
DTSTAMP:20260421T023311
CREATED:20250314T083102Z
LAST-MODIFIED:20250314T085014Z
UID:5271-1686250800-1686259800@blog.demonia.com
SUMMARY:Atelier Jeux de mains\, jeux de vilains ou la pratique du tickling
DESCRIPTION:Atelier : Jeux de mains\, jeux de vilains – La pratique du Tickling\nAnimé par Axelle de Sade \nDécouvrez le tickling : une approche ludique et intense du BDSM\n🔹 Le chatouillement : un simple jeu d’enfants ? Détrompez-vous. Le tickling – ou l’art du chatouillement – est une pratique sensorielle\, intense et transgressive qui s’invite dans l’univers du BDSM. \nÀ mi-chemin entre plaisir\, contrainte et perte de contrôle\, il offre une palette de sensations inédites pouvant aller du jeu complice à une véritable forme de soumission et d’exploration corporelle. \nDans cet atelier\, Axelle de Sade vous invite à explorer le tickling sous un angle BDSM\, à comprendre ses dynamiques psychologiques et à apprendre comment l’intégrer à vos jeux de domination et soumission. \nDéroulé de l’atelier\n🔸 Histoire et origines du tickling – De l’enfance aux tortures d’antan\, comment cette pratique a traversé les âges et pris sa place dans le BDSM.\n🔸 Les rôles et dynamiques – Tickler (celui qui chatouille) et Ticklee (celui qui reçoit) : quels rapports de pouvoir et de plaisir ?\n🔸 Techniques et zones sensibles – Les parties du corps réceptives\, comment varier pression\, rythme et intensité pour susciter excitation ou supplice.\n🔸 Intégrer le tickling dans le BDSM – Du jeu sensuel à la punition\, comment adapter cette pratique aux différentes dynamiques D/s.\n🔸 Exercices pratiques – Exploration en duo et en trio\, pour expérimenter différentes approches du tickling et ses effets sur le corps et l’esprit. \n📌 Aucun prérequis nécessaire\, juste l’envie d’expérimenter et de jouer avec les sensations ! \nÀ propos de l’animatrice : Axelle de Sade\n💡 Figure incontournable du BDSM en France\, Axelle de Sade est co-fondatrice de l’Erosticratie\, des SubSpace et de l’École des Arts Sadiens\, la première école dédiée à l’apprentissage du BDSM en France.\n🏆 Sacrée « SM Queen » en 2021 par Les Inrocks\, elle est dominatrice professionnelle\, conférencière et artiste\, régulièrement sollicitée par les médias et les milieux artistiques.\n🎬 Elle participe à divers projets\, dont le film La Maison d’Anissa Bonnefont. \n🔎 Un atelier inédit pour revisiter le BDSM sous un angle ludique\, sensoriel et délicieusement subversif. \n🎟 Atelier sur inscription – Places limitées \n📢 Plus d’informations et réservations à venir.
URL:https://www.demonia.com/pratiques-BDSM/event/atelier-jeux-de-mains-jeux-de-vilains-ou-la-pratique-du-tickling/
LOCATION:Dèmonia Paris\, 19 rue de la Pierre levée\, Paris\, 75011
CATEGORIES:Ateliers Fétish & BDSM
ATTACH;FMTTYPE=image/jpeg:https://www.demonia.com/pratiques-BDSM/wp-content/uploads/2025/03/28.jpg
END:VEVENT
BEGIN:VEVENT
DTSTART;TZID=Europe/Paris:20230624T220000
DTEND;TZID=Europe/Paris:20230625T060000
DTSTAMP:20260421T023311
CREATED:20250311T105854Z
LAST-MODIFIED:20250311T110717Z
UID:5072-1687644000-1687672800@blog.demonia.com
SUMMARY:Nuit Dèmonia Love Has No Borders 2
DESCRIPTION:La Nuit Dèmonia est de retour pour une édition enflammée qui fait revivre l’esprit de Love has no borders ! \nPlongez dans une soirée où les limites s’effacent\, où les âmes se rencontrent et se libèrent. \nEn ce mois de juin\, chaque couleur brille comme un symbole de diversité et d’inclusion. Célébrons ensemble les nuances qui nous rendent uniques et précieux. \nNous vous invitons à créer une mosaïque vibrante d’amour\, de liberté et d’expression\, et à faire de cette « Love has no borders 2 » un moment inoubliable. \nSoyez fiers d’être vous-mêmes\, d’aimer sans frontières et d’explorer sans retenue. \nExprimez votre liberté !\nOsez les tenues audacieuses et créatives !Affirmez votre identité avec des matières emblématiques du monde fétichiste : latex\, wetlook\, vinyle\, cuir… \nChaque tenue est une déclaration d’individualité\, un hommage à la diversité et à l’affirmation de soi\, incluant les pratiques BDSM comme une expression saine et consensuelle de la sexualité. \nIci\, chacun est libre d’explorer ses désirs dans un cadre bienveillant\, respectueux et sécurisant. \nVivez votre propre expérience\nLa Nuit Dèmonia n’offre pas une seule expérience\, mais une multitude\, propres à chacun.Exprimez-vous\, dansez\, jouez\, vibrez au rythme de vos envies. \nCette soirée unique repose sur des valeurs fondamentales : respect mutuel\, consentement et acceptation inconditionnelle des identités de genre et orientations sexuelles. \nLe lieu : un écrin envoûtant\nCette édition prend place au Faust\, un lieu underground à l’ambiance sombre et électrisante. \nSous des lumières tamisées\, au son des basses envoûtantes\, laissez-vous porter par l’énergie de la nuit et abandonnez-vous à une expérience sensorielle intense. \n\nAmour & Respect\nLa Nuit Dèmonia est une invitation à la liberté\, où chacun peut jouer\, danser et admirer des performances artistiques dans l’un des clubs les plus prestigieux de Paris\, où règnent respect et bienveillance. \n\nUne nuit fétiche depuis 1993\nDepuis plus de 30 ans\, la Nuit Dèmonia est une référence incontournable dans l’univers fétichiste et alternatif\, en France et à l’international. \nChaque édition est un voyage immersif où l’expression personnelle est reine. Un jeu de styles\, d’audace et de théâtralité\, où se rencontrent des artistes burlesques\, performers underground et figures de la scène fétichiste. \nC’est un espace d’ouverture\, d’inclusion et de tolérance\, où chacun peut être qui il veut\, sans contrainte ni jugement. \nUn événement pour tous : hétéros\, gays\, lesbiennes\, bisexuels\, transgenres\, non-binaires et bien au-delà. \nDèmonia\, une institution du fétichisme\nDepuis trois décennies\, Dèmonia est la marque emblématique de la communauté Fétichiste & BDSM. \nAu-delà des préjugés\, nous prônons l’exploration\, la diversité et l’épanouissement de chacun dans un cadre raffiné et respectueux. \nAncrée dans des valeurs d’ouverture et d’inclusivité\, Dèmonia s’engage activement pour la communauté LGBTQIAPK et bien au-delà. \nRejoignez-nous et osez l’expérience Dèmonia !
URL:https://www.demonia.com/pratiques-BDSM/event/nuit-demonia-love-has-no-borders-2/
LOCATION:Solum\, Rive gauche\, Pont Alexandre III\, Paris\, 75007
CATEGORIES:Soirées Fetish & BDSM
ATTACH;FMTTYPE=image/jpeg:https://www.demonia.com/pratiques-BDSM/wp-content/uploads/2025/03/Nuit-Demonia-Love-Has-No-Borders-2.jpg
END:VEVENT
END:VCALENDAR